BEGIN:VCALENDAR
VERSION:2.0
PRODID:-//Intand Corporation//Tandem//EN
METHOD:PUBLISH
BEGIN:VEVENT
DTSTAMP:20260424T043703Z
DTSTART:20230512T223000Z
DTEND:20230513T003000Z
TRANSP:TRANSPARENT
PRIORITY:0
SUMMARY:AD Family Fun Night
LOCATION:ADE Library\, ADE Gym\, ADE Cafeteria
DESCRIPTION:Groups:\nADE PTA\nADE Parent\nADE Staff\n\nSchools:\nAlexander
  Doniphan Elementary\n\nLocations:\nADE Library\nADE Gym\nADE Cafeteria\n\
 n
URL;VALUE=URI:http://liberty53.tandem.co/index.php?type=view&action=event&
 id=447891
CREATED:20220613T165431Z
LAST-MODIFIED:20230424T174555Z
UID:event-447891-liberty53@intand.com
END:VEVENT
END:VCALENDAR
