BEGIN:VCALENDAR
VERSION:2.0
PRODID:-//Intand Corporation//Tandem//EN
METHOD:PUBLISH
BEGIN:VEVENT
DTSTAMP:20260424T053553Z
DTSTART:20230430T113000Z
DTEND:20230430T140000Z
TRANSP:TRANSPARENT
PRIORITY:0
SUMMARY:[Cancelled] KidZone
LOCATION:WHE Gym\, WHE Cafeteria
DESCRIPTION:Groups:\nWHE Kid's Zone\n\nSchools:\nWarren Hills Elementary\n
 \nLocations:\nWHE Gym\nWHE Cafeteria\n\n
URL;VALUE=URI:http://liberty53.tandem.co/index.php?type=view&action=event&
 id=445277
CREATED:20220531T160506Z
LAST-MODIFIED:20220531T165116Z
UID:event-445277-liberty53@intand.com
END:VEVENT
END:VCALENDAR
