BEGIN:VCALENDAR
VERSION:2.0
PRODID:-//Intand Corporation//Tandem//EN
METHOD:PUBLISH
BEGIN:VEVENT
DTSTAMP:20260424T023822Z
DTSTART:20230403T204500Z
DTEND:20230403T230000Z
TRANSP:TRANSPARENT
PRIORITY:0
SUMMARY:SC - Kid's Zone
LOCATION:SCE Cafeteria\, SCE Gym
DESCRIPTION:Groups:\nSCE Kid's Zone\n\nSchools:\nShoal Creek Elementary\n\
 nLocations:\nSCE Cafeteria\nSCE Gym\n\n
URL;VALUE=URI:http://liberty53.tandem.co/index.php?type=view&action=event&
 id=443810
CREATED:20220520T161202Z
LAST-MODIFIED:20230223T131010Z
UID:event_request-443810-liberty53@intand.com
END:VEVENT
END:VCALENDAR
