BEGIN:VCALENDAR
VERSION:2.0
PRODID:-//Intand Corporation//Tandem//EN
METHOD:PUBLISH
BEGIN:VEVENT
DTSTAMP:20260424T054045Z
DTSTART:20230502T123000Z
DTEND:20230502T130000Z
TRANSP:TRANSPARENT
PRIORITY:0
SUMMARY:LHS - NHS Meeting
LOCATION:LHS Room 800 PAC/Theater
DESCRIPTION:Groups:\nLHS National Honor Society\n\nSchools:\nLiberty High 
 School\n\nLocation:\nLHS Room 800 PAC/Theater\n\n
URL;VALUE=URI:http://liberty53.tandem.co/index.php?type=view&action=event&
 id=442704
CREATED:20220518T190336Z
LAST-MODIFIED:20220811T180122Z
UID:event_request-442704-liberty53@intand.com
END:VEVENT
END:VCALENDAR
