BEGIN:VCALENDAR
VERSION:2.0
PRODID:-//Intand Corporation//Tandem//EN
METHOD:PUBLISH
BEGIN:VEVENT
DTSTAMP:20260424T073705Z
DTSTART:20230512T120000Z
DTEND:20230512T170000Z
TRANSP:TRANSPARENT
PRIORITY:0
SUMMARY:DMS Orchestra Rehearsal
LOCATION:DMS Cafeteria\, DMS Room 201
DESCRIPTION:Groups:\nDMS Orchestra\n\nSchools:\nDiscovery Middle School\n\
 nLocations:\nDMS Cafeteria\nDMS Room 201\n\n
URL;VALUE=URI:http://liberty53.tandem.co/index.php?type=view&action=event&
 id=442571
CREATED:20220517T130301Z
LAST-MODIFIED:20220517T223105Z
UID:event_request-442571-liberty53@intand.com
END:VEVENT
END:VCALENDAR
