BEGIN:VCALENDAR
VERSION:2.0
PRODID:-//Intand Corporation//Tandem//EN
METHOD:PUBLISH
BEGIN:VEVENT
DTSTAMP:20260424T043212Z
DTSTART:20230413T000000Z
DTEND:20230413T020000Z
TRANSP:TRANSPARENT
PRIORITY:0
SUMMARY:LHS Exit 1-6 Performance
LOCATION:LHS Room 800 PAC/Theater\, LHS Room 812 Drama
DESCRIPTION:Setup: 6:15 pm\nBreakdown: 9:30 pm\n\nGroups:\nLHS Exit 16\n\n
 Schools:\nLiberty High School\n\nLocations:\nLHS Room 800 PAC/Theater\nLHS
  Room 812 Drama\n\n
URL;VALUE=URI:http://liberty53.tandem.co/index.php?type=view&action=event&
 id=442568
CREATED:20220517T130054Z
LAST-MODIFIED:20220803T135037Z
UID:event_request-442568-liberty53@intand.com
END:VEVENT
END:VCALENDAR
