BEGIN:VCALENDAR
VERSION:2.0
PRODID:-//Intand Corporation//Tandem//EN
METHOD:PUBLISH
BEGIN:VEVENT
DTSTAMP:20260424T023331Z
DTSTART:20230429T120000Z
DTEND:20230429T230000Z
TRANSP:TRANSPARENT
PRIORITY:0
SUMMARY:Spring Play Blackout
LOCATION:LHS Room 800 PAC/Theater\, LHS Room 812 Drama\, LHS Room 812A Des
 igner Studio
DESCRIPTION:Groups:\nLHS Theater\n\nSchools:\nLiberty High School\n\nLocat
 ions:\nLHS Room 800 PAC/Theater\nLHS Room 812 Drama\nLHS Room 812A Designe
 r Studio\n\n
URL;VALUE=URI:http://liberty53.tandem.co/index.php?type=view&action=event&
 id=442433
CREATED:20220516T142008Z
LAST-MODIFIED:20220516T150001Z
UID:event_request-442433-liberty53@intand.com
END:VEVENT
END:VCALENDAR
