BEGIN:VCALENDAR
VERSION:2.0
PRODID:-//Intand Corporation//Tandem//EN
METHOD:PUBLISH
BEGIN:VEVENT
DTSTAMP:20260424T144137Z
DTSTART:20230412T230000Z
DTEND:20230413T000000Z
TRANSP:TRANSPARENT
PRIORITY:0
SUMMARY:FR - Music Program @ LPAT
LOCATION:Liberty Performing Arts Theatre\, LMS Commons
DESCRIPTION:Kindergarten and 1st grade performs at 6:00pm. Fifth grade per
 forms at 6:45pm. \n\nSetup: 5:30 pm\nBreakdown: 7:30 pm\n\nGroups:\nFE Voc
 al Music\n\nSchools:\nFranklin Elementary\n\nLocations:\nLiberty Performin
 g Arts Theatre\nLMS Commons\n\n
URL;VALUE=URI:http://liberty53.tandem.co/index.php?type=view&action=event&
 id=442318
CREATED:20220513T170144Z
LAST-MODIFIED:20220628T174728Z
UID:event_request-442318-liberty53@intand.com
END:VEVENT
END:VCALENDAR
