BEGIN:VCALENDAR
VERSION:2.0
PRODID:-//Intand Corporation//Tandem//EN
METHOD:PUBLISH
BEGIN:VEVENT
DTSTAMP:20260424T024443Z
DTSTART:20230510T000000Z
DTEND:20230510T013000Z
TRANSP:TRANSPARENT
PRIORITY:0
SUMMARY:LNHS Orchestra Spring Finale Concert
LOCATION:LNHS Performing Arts Theater (GH HVAC)\, LNHS Room 612 Orchestra\
 , LNHS Great Hall\, LNHS Room 617 VM-Large\, LNHS Room 616 Band
DESCRIPTION:A celebration of a great school year and to honor our seniors!
  Concert will begin at 7pm with call times to be announced. Students will 
 wear concert tuxes/dresses for concert. Seniors will have an option of att
 ire.\n\nSetup: 5:00 pm\nBreakdown: 9:00 pm\n\nGroups:\nLNHS Orchestra\n\nS
 chools:\nLiberty North High School\n\nLocations:\nLNHS Performing Arts The
 ater (GH HVAC)\nLNHS Room 612 Orchestra\nLNHS Great Hall\nLNHS Room 617 VM
 -Large\nLNHS Room 616 Band\n\n
URL;VALUE=URI:http://liberty53.tandem.co/index.php?type=view&action=event&
 id=439615
CREATED:20220509T171233Z
LAST-MODIFIED:20220509T181821Z
UID:event_request-439615-liberty53@intand.com
END:VEVENT
END:VCALENDAR
