BEGIN:VCALENDAR
VERSION:2.0
PRODID:-//Intand Corporation//Tandem//EN
METHOD:PUBLISH
BEGIN:VEVENT
DTSTAMP:20260424T064712Z
DTSTART:20230522T120000Z
DTEND:20230523T020000Z
TRANSP:TRANSPARENT
PRIORITY:0
SUMMARY:LHS Strings Festival 
LOCATION:LHS Fieldhouse Gym
DESCRIPTION:String Fling on the LHS Side. All Liberty Strings players perf
 orm \n\nGroups:\nADE Strings\nLHS Orchestra\nLMS Orchestra\nLSE Strings\nM
 HE Strings\n\nSchools:\nAlexander Doniphan Elementary\nLiberty High School
 \nLiberty Middle School\nLillian Schumacher Elementary\nManor Hill Element
 ary\n\nLocation:\nLHS Fieldhouse Gym\n\n
URL;VALUE=URI:http://liberty53.tandem.co/index.php?type=view&action=event&
 id=439016
CREATED:20220504T192650Z
LAST-MODIFIED:20230516T210223Z
UID:event_request-439016-liberty53@intand.com
END:VEVENT
END:VCALENDAR
