BEGIN:VCALENDAR
VERSION:2.0
PRODID:-//Intand Corporation//Tandem//EN
METHOD:PUBLISH
BEGIN:VEVENT
DTSTAMP:20260424T061905Z
DTSTART:20230509T113000Z
DTEND:20230509T130000Z
TRANSP:TRANSPARENT
PRIORITY:0
SUMMARY:[Cancelled] DAC 3-Board Room-Liberty Education Foundation Board Me
 eting
LOCATION:DAC 3-Board Room
DESCRIPTION:Liberty Foundation Board Meeting\n\nGroups:\nLiberty Foundatio
 n\n\nSchools:\nDistrict Administration Center\n\nLocation:\nDAC 3-Board Ro
 om\n\n
URL;VALUE=URI:http://liberty53.tandem.co/index.php?type=view&action=event&
 id=438717
CREATED:20220502T202701Z
LAST-MODIFIED:20230508T134743Z
UID:event-438717-liberty53@intand.com
END:VEVENT
END:VCALENDAR
