BEGIN:VCALENDAR
VERSION:2.0
PRODID:-//Intand Corporation//Tandem//EN
METHOD:PUBLISH
BEGIN:VEVENT
DTSTAMP:20260424T015327Z
DTSTART:20110928T211500Z
DTEND:20110928T230000Z
TRANSP:TRANSPARENT
PRIORITY:0
SUMMARY:WH Kid's Zone PM
LOCATION:WHE Computer Lab
DESCRIPTION:WH Kid's Zone After School program uses Gym\, Cafe'\, Computer
  Lab and playground\n\nGroups:\nKid's Zone Program\n\nSchools:\nWarren Hil
 ls Elementary\n\nLocation:\nWHE Computer Lab\n\n
URL;VALUE=URI:http://liberty53.tandem.co/index.php?type=view&action=event&
 id=43680
CREATED:20110512T192305Z
LAST-MODIFIED:20110512T192305Z
UID:event-43680-liberty53@intand.com
END:VEVENT
END:VCALENDAR
