BEGIN:VCALENDAR
VERSION:2.0
PRODID:-//Intand Corporation//Tandem//EN
METHOD:PUBLISH
BEGIN:VEVENT
DTSTAMP:20260424T050207Z
DTSTART:20110914T200000Z
DTEND:20110914T230000Z
TRANSP:TRANSPARENT
PRIORITY:0
SUMMARY:SC Kid's Zone PM
LOCATION:SCE Library\, SCE Great Hall\, SCE Computer Lab\, SCE Cafeteria\,
  SCE Gym
DESCRIPTION:SC Kid's Zone After School program uses Gym\, Cafe'\, Computer
  Lab and playground\n\nGroups:\nKid's Zone Program\n\nSchools:\nShoal Cree
 k Elementary\n\nLocations:\nSCE Library\nSCE Great Hall\nSCE Computer Lab\
 nSCE Cafeteria\nSCE Gym\n\n
URL;VALUE=URI:http://liberty53.tandem.co/index.php?type=view&action=event&
 id=43467
CREATED:20110512T191921Z
LAST-MODIFIED:20110512T191921Z
UID:event-43467-liberty53@intand.com
END:VEVENT
END:VCALENDAR
