BEGIN:VCALENDAR
VERSION:2.0
PRODID:-//Intand Corporation//Tandem//EN
METHOD:PUBLISH
BEGIN:VEVENT
DTSTAMP:20260424T023925Z
DTSTART:20230401T133000Z
DTEND:20230401T233000Z
TRANSP:TRANSPARENT
PRIORITY:0
SUMMARY:MSHSAA District Solo/Ensemble Festival - Vocal
LOCATION:LHS Room 804 Studio\, LHS Cokely Gym\, LHS Cafeteria\, LHS Room 6
 03\, LHS Commons\, LHS Room 408\, LHS Room 826 Studio\, LHS LMC Lab 301\, 
 LHS Lower Commons\, LHS Room 506\, LHS Room 800 PAC/Theater\, LHS Room 502
 \, LHS Room 609\, LHS Ro
DESCRIPTION:Setup: 7:30 am\nBreakdown: 7:00 pm\n\nGroups:\nLHS Orchestra\n
 LHS Band\n\nSchools:\nWinnetonka High\nSTALEY HIGH\nPark Hill South High\n
 Park Hill High\nOak Park High\nNorth Kansas City High\nLiberty High School
 \nKearney High\nJUNIOR HIGH\nExcelsior Springs High\n\nLocations:\nLHS Roo
 m 804 Studio\nLHS Cokely Gym\nLHS Cafeteria\nLHS Room 603\nLHS Commons\nLH
 S Room 408\nLHS Room 826 Studio\nLHS LMC Lab 301\nLHS Lower Commons\nLHS R
 oom 506\nLHS Room 800 PAC/Theater\nLHS Room 502\nLHS Room 609\nLHS Room 82
 3 Studio\nLHS Room 604\nLHS Room 509\nLHS Room 811 Orchestra\nLHS Room 812
  Drama\nLHS Room 607\nLHS Room 600\nLHS Room 501\nLHS Room 827 Speech/Deba
 te\nLHS Room 402\nLHS Room 808 Band\nLHS Room 605\nLHS Room 806 Studio\nLH
 S Room 809 Band\nLHS Commons/State Wall\nLHS Room 406\nLHS LMC Main Floor\
 nLHS Room 822 Studio\nLHS Room 515\nLHS Room 505\nLHS View Black Box Rm 38
 \nLHS Room 404\nLHS Room 514\nLHS Room 820 Vocal\nLHS Room 803 Studio\n\nC
 ontacts:\nEddie Owen\nBrittany True\n\nSupervisors:\nEddie Owen\nBrittany 
 True\n\n
URL;VALUE=URI:http://liberty53.tandem.co/index.php?type=view&action=event&
 id=433968
CREATED:20220216T165957Z
LAST-MODIFIED:20220216T170233Z
UID:event_request-433968-liberty53@intand.com
END:VEVENT
END:VCALENDAR
