BEGIN:VCALENDAR
VERSION:2.0
PRODID:-//Intand Corporation//Tandem//EN
METHOD:PUBLISH
BEGIN:VEVENT
DTSTAMP:20260424T063557Z
DTSTART:20110929T110000Z
DTEND:20110929T130000Z
TRANSP:TRANSPARENT
PRIORITY:0
SUMMARY:MH Kid's Zone
LOCATION:MHE Computer Lab\, MHE Cafeteria\, MHE Gym
DESCRIPTION:MH Kid's Zone Before school Program uses Gym\, Cafe'\, Compute
 r Lab and playground \n\nGroups:\nKid's Zone Program\n\nSchools:\nManor Hi
 ll Elementary\n\nLocations:\nMHE Computer Lab\nMHE Cafeteria\nMHE Gym\n\n
URL;VALUE=URI:http://liberty53.tandem.co/index.php?type=view&action=event&
 id=41762
CREATED:20110511T163040Z
LAST-MODIFIED:20110511T163040Z
UID:event-41762-liberty53@intand.com
END:VEVENT
END:VCALENDAR
