BEGIN:VCALENDAR
VERSION:2.0
PRODID:-//Intand Corporation//Tandem//EN
METHOD:PUBLISH
BEGIN:VEVENT
DTSTAMP:20260424T043146Z
DTSTART:20201219T130000Z
DTEND:20201219T230000Z
TRANSP:TRANSPARENT
PRIORITY:0
SUMMARY:Speech and Debate Tournaments
LOCATION:LNHS Room 711\, LNHS Room 610E\, LNHS Room 612 Orchestra\, LNHS R
 oom 719\, LNHS Room 712\, LNHS Room 608\, LNHS Room 209\, LNHS Room 609
DESCRIPTION:Groups:\nLNHS Speech / Debate\n\nSchools:\nLiberty North High 
 School\n\nLocations:\nLNHS Room 711\nLNHS Room 610E\nLNHS Room 612 Orchest
 ra\nLNHS Room 719\nLNHS Room 712\nLNHS Room 608\nLNHS Room 209\nLNHS Room 
 609\n\n
URL;VALUE=URI:http://liberty53.tandem.co/index.php?type=view&action=event&
 id=395546
CREATED:20201105T152921Z
LAST-MODIFIED:20201106T184741Z
UID:event_request-395546-liberty53@intand.com
END:VEVENT
END:VCALENDAR
