BEGIN:VCALENDAR
VERSION:2.0
PRODID:-//Intand Corporation//Tandem//EN
METHOD:PUBLISH
BEGIN:VEVENT
DTSTAMP:20260424T023334Z
DTSTART:20201230T140000Z
DTEND:20201231T020000Z
TRANSP:TRANSPARENT
PRIORITY:0
SUMMARY:LN MBB Practice
LOCATION:LNHS Fieldhouse (GH HVAC)
DESCRIPTION:Groups:\nLNHS Basketball - Boys C-Team\n\nSchools:\nDO NOT USE
 ****South Valley Junior High School\nDO NOT USE***Liberty Junior High Scho
 ol\nLiberty North High School\n\nLocation:\nLNHS Fieldhouse (GH HVAC)\n\n
URL;VALUE=URI:http://liberty53.tandem.co/index.php?type=view&action=event&
 id=394194
CREATED:20201012T193253Z
LAST-MODIFIED:20201216T194629Z
UID:event_request-394194-liberty53@intand.com
END:VEVENT
END:VCALENDAR
