BEGIN:VCALENDAR
VERSION:2.0
PRODID:-//Intand Corporation//Tandem//EN
METHOD:PUBLISH
BEGIN:VEVENT
DTSTAMP:20260424T043701Z
DTSTART:20201204T210000Z
DTEND:20201205T000000Z
TRANSP:TRANSPARENT
PRIORITY:0
SUMMARY:Women's Wrestling Practice
LOCATION:LNHS F Basement Hallway
DESCRIPTION:Groups:\nLNHS Wrestling - Girls Varsity\n\nSchools:\nLiberty N
 orth High School\n\nLocation:\nLNHS F Basement Hallway\n\n
URL;VALUE=URI:http://liberty53.tandem.co/index.php?type=view&action=event&
 id=393914
CREATED:20200929T020219Z
LAST-MODIFIED:20200929T125319Z
UID:event_request-393914-liberty53@intand.com
END:VEVENT
END:VCALENDAR
