BEGIN:VCALENDAR
VERSION:2.0
PRODID:-//Intand Corporation//Tandem//EN
METHOD:PUBLISH
BEGIN:VEVENT
DTSTAMP:20260424T055357Z
DTSTART:20201204T213000Z
DTEND:20201205T030000Z
TRANSP:TRANSPARENT
PRIORITY:0
SUMMARY:Liberty North Men's Wrestling
LOCATION:LNHS Wrestling Room
DESCRIPTION:Groups:\nLNHS Wrestling - Boys Varsity\n\nSchools:\nLiberty No
 rth High School\n\nLocation:\nLNHS Wrestling Room\n\n
URL;VALUE=URI:http://liberty53.tandem.co/index.php?type=view&action=event&
 id=392404
CREATED:20200820T144952Z
LAST-MODIFIED:20201021T185929Z
UID:event_request-392404-liberty53@intand.com
END:VEVENT
END:VCALENDAR
