BEGIN:VCALENDAR
VERSION:2.0
PRODID:-//Intand Corporation//Tandem//EN
METHOD:PUBLISH
BEGIN:VEVENT
DTSTAMP:20260424T061743Z
DTSTART:20201208T200000Z
DTEND:20201208T210000Z
TRANSP:TRANSPARENT
PRIORITY:0
SUMMARY:LN College Rep Visit
LOCATION:LNHS Room 707
DESCRIPTION:Groups:\nLNHS Guidance\n\nSchools:\nLiberty North High School\
 n\nLocation:\nLNHS Room 707\n\n
URL;VALUE=URI:http://liberty53.tandem.co/index.php?type=view&action=event&
 id=391843
CREATED:20200731T165101Z
LAST-MODIFIED:20200803T192624Z
UID:event_request-391843-liberty53@intand.com
END:VEVENT
END:VCALENDAR
