BEGIN:VCALENDAR
VERSION:2.0
PRODID:-//Intand Corporation//Tandem//EN
METHOD:PUBLISH
BEGIN:VEVENT
DTSTAMP:20260424T015242Z
DTSTART;VALUE=DATE:20111002
DTEND;VALUE=DATE:20111003
TRANSP:TRANSPARENT
PRIORITY:0
SUMMARY:LHS Varsity Cheer State Competition
LOCATION:Hearns Center
DESCRIPTION:Brenda Moats would like an administrator to be present for the
  competition.\n\nGroups:\nLHS Cheer Varsity\n\nSchools:\nLiberty High Scho
 ol\n\nLocation:\nHearns Center\n\n
URL;VALUE=URI:http://liberty53.tandem.co/index.php?type=view&action=event&
 id=38466
CREATED:20110331T180045Z
LAST-MODIFIED:20110331T180045Z
UID:event-38466-liberty53@intand.com
END:VEVENT
END:VCALENDAR
