BEGIN:VCALENDAR
VERSION:2.0
PRODID:-//Intand Corporation//Tandem//EN
METHOD:PUBLISH
BEGIN:VEVENT
DTSTAMP:20260424T023651Z
DTSTART:20201218T010000Z
DTEND:20201218T030000Z
TRANSP:TRANSPARENT
PRIORITY:0
SUMMARY:BBFP Rehearsals
LOCATION:LNHS Room 607 Black Box Theater
DESCRIPTION:Groups:\nLNHS Improv\n\nSchools:\nLiberty North High School\n\
 nLocation:\nLNHS Room 607 Black Box Theater\n\nContacts:\nSara Turner\n\nS
 upervisors:\nAaron Money\n\n
URL;VALUE=URI:http://liberty53.tandem.co/index.php?type=view&action=event&
 id=381029
CREATED:20200615T180840Z
LAST-MODIFIED:20200617T131528Z
UID:event_request-381029-liberty53@intand.com
END:VEVENT
END:VCALENDAR
