BEGIN:VCALENDAR
VERSION:2.0
PRODID:-//Intand Corporation//Tandem//EN
METHOD:PUBLISH
BEGIN:VEVENT
DTSTAMP:20260424T055601Z
DTSTART:20200227T160000Z
DTEND:20200227T173000Z
TRANSP:TRANSPARENT
PRIORITY:0
SUMMARY:SPED testing
LOCATION:SVMS Conference Suite II
DESCRIPTION:Groups:\nSVMS Staff\n\nSchools:\nSouth Valley Middle School\n\
 nLocation:\nSVMS Conference Suite II\n\n
URL;VALUE=URI:http://liberty53.tandem.co/index.php?type=view&action=event&
 id=374761
CREATED:20200226T215408Z
LAST-MODIFIED:20200227T141251Z
UID:event_request-374761-liberty53@intand.com
END:VEVENT
END:VCALENDAR
