BEGIN:VCALENDAR
VERSION:2.0
PRODID:-//Intand Corporation//Tandem//EN
METHOD:PUBLISH
BEGIN:VEVENT
DTSTAMP:20260424T074156Z
DTSTART:20200225T210000Z
DTEND:20200225T220000Z
TRANSP:TRANSPARENT
PRIORITY:0
SUMMARY:LHS Parent Meeting Mr. Sharp
LOCATION:LHS Administrative Conference Room
DESCRIPTION:Schools:\nLiberty High School\n\nLocation:\nLHS Administrative
  Conference Room\n\n
URL;VALUE=URI:http://liberty53.tandem.co/index.php?type=view&action=event&
 id=374149
CREATED:20200224T150251Z
LAST-MODIFIED:20200224T150326Z
UID:event_request-374149-liberty53@intand.com
END:VEVENT
END:VCALENDAR
