BEGIN:VCALENDAR
VERSION:2.0
PRODID:-//Intand Corporation//Tandem//EN
METHOD:PUBLISH
BEGIN:VEVENT
DTSTAMP:20260424T055447Z
DTSTART:20200219T190000Z
DTEND:20200219T200000Z
TRANSP:TRANSPARENT
PRIORITY:0
SUMMARY:LHS Parent Meeting 
LOCATION:LHS Administrative Conference Room
DESCRIPTION:Schools:\nLiberty High School\n\nLocation:\nLHS Administrative
  Conference Room\n\n
URL;VALUE=URI:http://liberty53.tandem.co/index.php?type=view&action=event&
 id=373911
CREATED:20200219T163259Z
LAST-MODIFIED:20200219T164751Z
UID:event_request-373911-liberty53@intand.com
END:VEVENT
END:VCALENDAR
