BEGIN:VCALENDAR
VERSION:2.0
PRODID:-//Intand Corporation//Tandem//EN
METHOD:PUBLISH
BEGIN:VEVENT
DTSTAMP:20260424T034945Z
DTSTART:20200220T140000Z
DTEND:20200220T210000Z
TRANSP:TRANSPARENT
PRIORITY:0
SUMMARY:LHS Future Finance
LOCATION:LHS Hall of Fame Room
DESCRIPTION:Schools:\nLiberty High School\n\nLocation:\nLHS Hall of Fame R
 oom\n\n
URL;VALUE=URI:http://liberty53.tandem.co/index.php?type=view&action=event&
 id=373467
CREATED:20200217T154655Z
LAST-MODIFIED:20200218T140446Z
UID:event_request-373467-liberty53@intand.com
END:VEVENT
END:VCALENDAR
