BEGIN:VCALENDAR
VERSION:2.0
PRODID:-//Intand Corporation//Tandem//EN
METHOD:PUBLISH
BEGIN:VEVENT
DTSTAMP:20260424T053920Z
DTSTART:20200221T173000Z
DTEND:20200221T181500Z
TRANSP:TRANSPARENT
PRIORITY:0
SUMMARY:Z Hair Academy/Counselors
LOCATION:LNHS Room 707
DESCRIPTION:Groups:\nLNHS Counselors\n\nSchools:\nLiberty North High Schoo
 l\n\nLocation:\nLNHS Room 707\n\n
URL;VALUE=URI:http://liberty53.tandem.co/index.php?type=view&action=event&
 id=372927
CREATED:20200211T215001Z
LAST-MODIFIED:20200211T215044Z
UID:event_request-372927-liberty53@intand.com
END:VEVENT
END:VCALENDAR
