BEGIN:VCALENDAR
VERSION:2.0
PRODID:-//Intand Corporation//Tandem//EN
METHOD:PUBLISH
BEGIN:VEVENT
DTSTAMP:20260424T033238Z
DTSTART:20200227T213000Z
DTEND:20200227T220000Z
TRANSP:TRANSPARENT
PRIORITY:0
SUMMARY:M.M. IEP Meeting
LOCATION:LNHS Room 707
DESCRIPTION:Annual IEP meeting\n\nGroups:\nLNHS Staff\n\nSchools:\nLiberty
  North High School\n\nLocation:\nLNHS Room 707\n\n
URL;VALUE=URI:http://liberty53.tandem.co/index.php?type=view&action=event&
 id=372477
CREATED:20200207T174208Z
LAST-MODIFIED:20200210T151059Z
UID:event_request-372477-liberty53@intand.com
END:VEVENT
END:VCALENDAR
