BEGIN:VCALENDAR
VERSION:2.0
PRODID:-//Intand Corporation//Tandem//EN
METHOD:PUBLISH
BEGIN:VEVENT
DTSTAMP:20260424T034957Z
DTSTART:20200226T180000Z
DTEND:20200226T210000Z
TRANSP:TRANSPARENT
PRIORITY:0
SUMMARY:LN- KC Scholars 
LOCATION:LNHS Room 711
DESCRIPTION:Groups:\nLNHS Counselors\n\nSchools:\nLiberty North High Schoo
 l\n\nLocation:\nLNHS Room 711\n\n
URL;VALUE=URI:http://liberty53.tandem.co/index.php?type=view&action=event&
 id=371955
CREATED:20200131T190126Z
LAST-MODIFIED:20200131T190126Z
UID:event-371955-liberty53@intand.com
END:VEVENT
END:VCALENDAR
