BEGIN:VCALENDAR
VERSION:2.0
PRODID:-//Intand Corporation//Tandem//EN
METHOD:PUBLISH
BEGIN:VEVENT
DTSTAMP:20260424T033648Z
DTSTART:20200205T143000Z
DTEND:20200205T180000Z
TRANSP:TRANSPARENT
PRIORITY:0
SUMMARY:[Cancelled] LN - Black History Assembly planning meeting
LOCATION:LNHS Room 711
DESCRIPTION:Groups:\nLNHS Staff\nLNHS Theater\n\nSchools:\nLiberty North H
 igh School\n\nLocation:\nLNHS Room 711\n\n
URL;VALUE=URI:http://liberty53.tandem.co/index.php?type=view&action=event&
 id=371943
CREATED:20200131T185353Z
LAST-MODIFIED:20200203T202605Z
UID:event-371943-liberty53@intand.com
END:VEVENT
END:VCALENDAR
