BEGIN:VCALENDAR
VERSION:2.0
PRODID:-//Intand Corporation//Tandem//EN
METHOD:PUBLISH
BEGIN:VEVENT
DTSTAMP:20260424T014847Z
DTSTART:20200130T180000Z
DTEND:20200130T190000Z
TRANSP:TRANSPARENT
PRIORITY:0
SUMMARY:LN Person Learning stairs guest speaker
LOCATION:LNHS Learning Stairs
DESCRIPTION:Groups:\nLNHS Art\n\nSchools:\nLiberty North High School\n\nLo
 cation:\nLNHS Learning Stairs\n\n
URL;VALUE=URI:http://liberty53.tandem.co/index.php?type=view&action=event&
 id=371896
CREATED:20200130T152415Z
LAST-MODIFIED:20200202T170238Z
UID:event_request-371896-liberty53@intand.com
END:VEVENT
END:VCALENDAR
