BEGIN:VCALENDAR
VERSION:2.0
PRODID:-//Intand Corporation//Tandem//EN
METHOD:PUBLISH
BEGIN:VEVENT
DTSTAMP:20260424T040846Z
DTSTART:20200217T214500Z
DTEND:20200217T222000Z
TRANSP:TRANSPARENT
PRIORITY:0
SUMMARY:AD - KC Chess Club
LOCATION:ADE Room 100
DESCRIPTION:Groups:\nKC Chess Club\n\nSchools:\nAlexander Doniphan Element
 ary\n\nLocation:\nADE Room 100\n\n
URL;VALUE=URI:http://liberty53.tandem.co/index.php?type=view&action=event&
 id=371887
CREATED:20200130T145327Z
LAST-MODIFIED:20200130T145327Z
UID:event-371887-liberty53@intand.com
END:VEVENT
END:VCALENDAR
