BEGIN:VCALENDAR
VERSION:2.0
PRODID:-//Intand Corporation//Tandem//EN
METHOD:PUBLISH
BEGIN:VEVENT
DTSTAMP:20260424T073827Z
DTSTART:20200129T205000Z
DTEND:20200129T212500Z
TRANSP:TRANSPARENT
PRIORITY:0
SUMMARY:LO - KC Chess Club
LOCATION:LOE Large Group Room
DESCRIPTION:Groups:\nKC Chess Club\n\nSchools:\nLiberty Oaks Elementary\n\
 nLocation:\nLOE Large Group Room\n\n
URL;VALUE=URI:http://liberty53.tandem.co/index.php?type=view&action=event&
 id=371861
CREATED:20200130T135026Z
LAST-MODIFIED:20200130T135026Z
UID:event-371861-liberty53@intand.com
END:VEVENT
END:VCALENDAR
