BEGIN:VCALENDAR
VERSION:2.0
PRODID:-//Intand Corporation//Tandem//EN
METHOD:PUBLISH
BEGIN:VEVENT
DTSTAMP:20260424T053912Z
DTSTART:20200129T203000Z
DTEND:20200129T213000Z
TRANSP:TRANSPARENT
PRIORITY:0
SUMMARY:SVMS-CONF STE. II-EHRHARD-MEETING-SVMS
LOCATION:SVMS Conference Suite I
DESCRIPTION:Groups:\nSVMS Counselors\n\nSchools:\nSouth Valley Middle Scho
 ol\n\nLocation:\nSVMS Conference Suite I\n\n
URL;VALUE=URI:http://liberty53.tandem.co/index.php?type=view&action=event&
 id=371812
CREATED:20200129T173720Z
LAST-MODIFIED:20200129T173720Z
UID:event-371812-liberty53@intand.com
END:VEVENT
END:VCALENDAR
