BEGIN:VCALENDAR
VERSION:2.0
PRODID:-//Intand Corporation//Tandem//EN
METHOD:PUBLISH
BEGIN:VEVENT
DTSTAMP:20260424T073935Z
DTSTART:20200218T203000Z
DTEND:20200218T210000Z
TRANSP:TRANSPARENT
PRIORITY:0
SUMMARY:LHS - MCC Dual Credit Meeting
LOCATION:LHS Guidance Conference Room
DESCRIPTION:Groups:\nLHS Counselors\n\nSchools:\nLiberty High School\n\nLo
 cation:\nLHS Guidance Conference Room\n\n
URL;VALUE=URI:http://liberty53.tandem.co/index.php?type=view&action=event&
 id=371739
CREATED:20200129T154151Z
LAST-MODIFIED:20200129T201504Z
UID:event_request-371739-liberty53@intand.com
END:VEVENT
END:VCALENDAR
