BEGIN:VCALENDAR
VERSION:2.0
PRODID:-//Intand Corporation//Tandem//EN
METHOD:PUBLISH
BEGIN:VEVENT
DTSTAMP:20260424T034953Z
DTSTART:20200203T203000Z
DTEND:20200203T210000Z
TRANSP:TRANSPARENT
PRIORITY:0
SUMMARY:LHS - Manifestation - Henderson
LOCATION:LHS Guidance Conference Room
DESCRIPTION:Groups:\nLHS SPED\n\nSchools:\nLiberty High School\n\nLocation
 :\nLHS Guidance Conference Room\n\n
URL;VALUE=URI:http://liberty53.tandem.co/index.php?type=view&action=event&
 id=371736
CREATED:20200129T145010Z
LAST-MODIFIED:20200129T201504Z
UID:event_request-371736-liberty53@intand.com
END:VEVENT
END:VCALENDAR
