BEGIN:VCALENDAR
VERSION:2.0
PRODID:-//Intand Corporation//Tandem//EN
METHOD:PUBLISH
BEGIN:VEVENT
DTSTAMP:20260424T055434Z
DTSTART:20200203T223000Z
DTEND:20200204T003000Z
TRANSP:TRANSPARENT
PRIORITY:0
SUMMARY:DMS Girls Basketball End of Year Celebration 
LOCATION:RE LMC
DESCRIPTION:End of Year Banquet - Girls Basketball - Coach Trautman \n\nGr
 oups:\nDMS Girls Basketball\n\nSchools:\nDiscovery Middle School\nRidgevie
 w Elementary\n\nLocation:\nRE LMC\n\n
URL;VALUE=URI:http://liberty53.tandem.co/index.php?type=view&action=event&
 id=371586
CREATED:20200128T161433Z
LAST-MODIFIED:20200128T161512Z
UID:event_request-371586-liberty53@intand.com
END:VEVENT
END:VCALENDAR
