BEGIN:VCALENDAR
VERSION:2.0
PRODID:-//Intand Corporation//Tandem//EN
METHOD:PUBLISH
BEGIN:VEVENT
DTSTAMP:20260424T035101Z
DTSTART:20200131T133000Z
DTEND:20200131T143000Z
TRANSP:TRANSPARENT
PRIORITY:0
SUMMARY:LHS IEP Mtg (Byrd)
LOCATION:LHS Administrative Conference Room
DESCRIPTION:Groups:\nLHS SPED\n\nSchools:\nLiberty High School\n\nLocation
 :\nLHS Administrative Conference Room\n\n
URL;VALUE=URI:http://liberty53.tandem.co/index.php?type=view&action=event&
 id=371509
CREATED:20200127T143904Z
LAST-MODIFIED:20200127T161523Z
UID:event_request-371509-liberty53@intand.com
END:VEVENT
END:VCALENDAR
