BEGIN:VCALENDAR
VERSION:2.0
PRODID:-//Intand Corporation//Tandem//EN
METHOD:PUBLISH
BEGIN:VEVENT
DTSTAMP:20260424T040937Z
DTSTART:20200127T134500Z
DTEND:20200127T141000Z
TRANSP:TRANSPARENT
PRIORITY:0
SUMMARY:IEP Meeting - English
LOCATION:LHS Administrative Conference Room
DESCRIPTION:Groups:\nLHS SPED\n\nSchools:\nLiberty High School\n\nLocation
 :\nLHS Administrative Conference Room\n\n
URL;VALUE=URI:http://liberty53.tandem.co/index.php?type=view&action=event&
 id=371331
CREATED:20200122T201718Z
LAST-MODIFIED:20200127T161523Z
UID:event_request-371331-liberty53@intand.com
END:VEVENT
END:VCALENDAR
