BEGIN:VCALENDAR
VERSION:2.0
PRODID:-//Intand Corporation//Tandem//EN
METHOD:PUBLISH
BEGIN:VEVENT
DTSTAMP:20260424T041037Z
DTSTART:20200201T160000Z
DTEND:20200201T173000Z
TRANSP:TRANSPARENT
PRIORITY:0
SUMMARY:LN Women's Basketball JV/V Practice
LOCATION:LNHS Fieldhouse (GH HVAC)
DESCRIPTION:Groups:\nLNHS Basketball - Girls JV/Varsity\n\nSchools:\nLiber
 ty North High School\n\nLocation:\nLNHS Fieldhouse (GH HVAC)\n\n
URL;VALUE=URI:http://liberty53.tandem.co/index.php?type=view&action=event&
 id=371157
CREATED:20200121T181556Z
LAST-MODIFIED:20200127T145144Z
UID:event_request-371157-liberty53@intand.com
END:VEVENT
END:VCALENDAR
