BEGIN:VCALENDAR
VERSION:2.0
PRODID:-//Intand Corporation//Tandem//EN
METHOD:PUBLISH
BEGIN:VEVENT
DTSTAMP:20260424T063719Z
DTSTART:20201201T214500Z
DTEND:20201201T233000Z
TRANSP:TRANSPARENT
PRIORITY:0
SUMMARY:GG Practice
LOCATION:LNHS Room 612 Orchestra
DESCRIPTION:Groups:\nLNHS Dance Team\nLNHS Athletics\n\nSchools:\nLiberty 
 North High School\n\nLocation:\nLNHS Room 612 Orchestra\n\n
URL;VALUE=URI:http://liberty53.tandem.co/index.php?type=view&action=event&
 id=370562
CREATED:20200120T161934Z
LAST-MODIFIED:20201130T184521Z
UID:event_request-370562-liberty53@intand.com
END:VEVENT
END:VCALENDAR
