BEGIN:VCALENDAR
VERSION:2.0
PRODID:-//Intand Corporation//Tandem//EN
METHOD:PUBLISH
BEGIN:VEVENT
DTSTAMP:20260424T014805Z
DTSTART:20200130T213000Z
DTEND:20200130T224500Z
TRANSP:TRANSPARENT
PRIORITY:0
SUMMARY:LN T&F Off Season Practice
LOCATION:LNHS Track\, LNHS Room 522\, LNHS Cafeteria (GH HVAC)
DESCRIPTION:Groups:\nLNHS Track & Field\nLNHS Girls Track & Field\n\nSchoo
 ls:\nLiberty North High School\n\nLocations:\nLNHS Track\nLNHS Room 522\nL
 NHS Cafeteria (GH HVAC)\n\n
URL;VALUE=URI:http://liberty53.tandem.co/index.php?type=view&action=event&
 id=370097
CREATED:20200114T142607Z
LAST-MODIFIED:20200114T153225Z
UID:event_request-370097-liberty53@intand.com
END:VEVENT
END:VCALENDAR
