BEGIN:VCALENDAR
VERSION:2.0
PRODID:-//Intand Corporation//Tandem//EN
METHOD:PUBLISH
BEGIN:VEVENT
DTSTAMP:20260424T031500Z
DTSTART:20200124T163000Z
DTEND:20200124T181000Z
TRANSP:TRANSPARENT
PRIORITY:0
SUMMARY:LHS Jostens Class Ring Order Day
LOCATION:LHS Lower Commons
DESCRIPTION:Groups:\nLHS Jostens\n\nSchools:\nLiberty High School\n\nLocat
 ion:\nLHS Lower Commons\n\n
URL;VALUE=URI:http://liberty53.tandem.co/index.php?type=view&action=event&
 id=370032
CREATED:20200113T160616Z
LAST-MODIFIED:20200113T160616Z
UID:event-370032-liberty53@intand.com
END:VEVENT
END:VCALENDAR
