BEGIN:VCALENDAR
VERSION:2.0
PRODID:-//Intand Corporation//Tandem//EN
METHOD:PUBLISH
BEGIN:VEVENT
DTSTAMP:20260424T040658Z
DTSTART:20200123T211500Z
DTEND:20200123T220000Z
TRANSP:TRANSPARENT
PRIORITY:0
SUMMARY:LNHS- MEETING
LOCATION:LNHS Room 707
DESCRIPTION:Schools:\nLiberty North High School\n\nLocation:\nLNHS Room 70
 7\n\n
URL;VALUE=URI:http://liberty53.tandem.co/index.php?type=view&action=event&
 id=370014
CREATED:20200112T024338Z
LAST-MODIFIED:20200112T124415Z
UID:event_request-370014-liberty53@intand.com
END:VEVENT
END:VCALENDAR
