BEGIN:VCALENDAR
VERSION:2.0
PRODID:-//Intand Corporation//Tandem//EN
METHOD:PUBLISH
BEGIN:VEVENT
DTSTAMP:20260424T043150Z
DTSTART:20200117T133000Z
DTEND:20200117T213000Z
TRANSP:TRANSPARENT
PRIORITY:0
SUMMARY:[Cancelled] LN PK --mtg
LOCATION:LNHS Room 711
DESCRIPTION:Groups:\nLNHS Staff\n\nSchools:\nLiberty North High School\n\n
 Location:\nLNHS Room 711\n\n
URL;VALUE=URI:http://liberty53.tandem.co/index.php?type=view&action=event&
 id=369950
CREATED:20200110T175539Z
LAST-MODIFIED:20200117T140035Z
UID:event-369950-liberty53@intand.com
END:VEVENT
END:VCALENDAR
