BEGIN:VCALENDAR
VERSION:2.0
PRODID:-//Intand Corporation//Tandem//EN
METHOD:PUBLISH
BEGIN:VEVENT
DTSTAMP:20260424T023807Z
DTSTART:20200227T230000Z
DTEND:20200228T020000Z
TRANSP:TRANSPARENT
PRIORITY:0
SUMMARY:PK--Parent Univ
LOCATION:LNHS Room 114 - Eagle Pointe Innovation Lab
DESCRIPTION:Groups:\nLNHS Parent\n\nSchools:\nLiberty North High School\n\
 nLocation:\nLNHS Room 114 - Eagle Pointe Innovation Lab\n\n
URL;VALUE=URI:http://liberty53.tandem.co/index.php?type=view&action=event&
 id=369823
CREATED:20200109T124137Z
LAST-MODIFIED:20200109T124137Z
UID:event-369823-liberty53@intand.com
END:VEVENT
END:VCALENDAR
