BEGIN:VCALENDAR
VERSION:2.0
PRODID:-//Intand Corporation//Tandem//EN
METHOD:PUBLISH
BEGIN:VEVENT
DTSTAMP:20260424T041035Z
DTSTART:20200116T220000Z
DTEND:20200117T000000Z
TRANSP:TRANSPARENT
PRIORITY:0
SUMMARY:Jostens Sophomore Class Ring- Family Ordering Time
LOCATION:LNHS Room 114 - Eagle Pointe Innovation Lab
DESCRIPTION:Groups:\nLNHS Grade 10\n\nSchools:\nLiberty North High School\
 n\nLocation:\nLNHS Room 114 - Eagle Pointe Innovation Lab\n\n
URL;VALUE=URI:http://liberty53.tandem.co/index.php?type=view&action=event&
 id=369641
CREATED:20200107T145953Z
LAST-MODIFIED:20200107T145953Z
UID:event-369641-liberty53@intand.com
END:VEVENT
END:VCALENDAR
