BEGIN:VCALENDAR
VERSION:2.0
PRODID:-//Intand Corporation//Tandem//EN
METHOD:PUBLISH
BEGIN:VEVENT
DTSTAMP:20260424T014937Z
DTSTART:20200113T190000Z
DTEND:20200113T200000Z
TRANSP:TRANSPARENT
PRIORITY:0
SUMMARY:[Cancelled] Jostens Sophomore Class Ring Meeting
LOCATION:LNHS Performing Arts Theater (GH HVAC)
DESCRIPTION:Groups:\nLNHS Staff\nLNHS Grade 10\n\nSchools:\nLiberty North 
 High School\n\nLocation:\nLNHS Performing Arts Theater (GH HVAC)\n\n
URL;VALUE=URI:http://liberty53.tandem.co/index.php?type=view&action=event&
 id=369612
CREATED:20200106T192657Z
LAST-MODIFIED:20200107T141224Z
UID:event-369612-liberty53@intand.com
END:VEVENT
END:VCALENDAR
