BEGIN:VCALENDAR
VERSION:2.0
PRODID:-//Intand Corporation//Tandem//EN
METHOD:PUBLISH
BEGIN:VEVENT
DTSTAMP:20260424T035122Z
DTSTART:20200113T213000Z
DTEND:20200113T223000Z
TRANSP:TRANSPARENT
PRIORITY:0
SUMMARY: SC - Bricks 4 Kidz - STEM Enrichment Class
LOCATION:SCE Library
DESCRIPTION:Groups:\nBricks 4 Kidz\n\nSchools:\nShoal Creek Elementary\n\n
 Location:\nSCE Library\n\n
URL;VALUE=URI:http://liberty53.tandem.co/index.php?type=view&action=event&
 id=369313
CREATED:20191220T133037Z
LAST-MODIFIED:20191220T133037Z
UID:event-369313-liberty53@intand.com
END:VEVENT
END:VCALENDAR
