BEGIN:VCALENDAR
VERSION:2.0
PRODID:-//Intand Corporation//Tandem//EN
METHOD:PUBLISH
BEGIN:VEVENT
DTSTAMP:20260424T024622Z
DTSTART:20191227T143000Z
DTEND:20191227T160000Z
TRANSP:TRANSPARENT
PRIORITY:0
SUMMARY:Liberty Juniors
LOCATION:LMS Gym
DESCRIPTION:Groups:\nLMS Volleyball\n\nSchools:\nLiberty Middle School\n\n
 Location:\nLMS Gym\n\n
URL;VALUE=URI:http://liberty53.tandem.co/index.php?type=view&action=event&
 id=369289
CREATED:20191218T203145Z
LAST-MODIFIED:20200120T175905Z
UID:event_request-369289-liberty53@intand.com
END:VEVENT
END:VCALENDAR
